BEGIN:VCALENDAR
VERSION:2.0
PRODID:-//wp-events-plugin.com//7.2.3.1//EN
BEGIN:VEVENT
UID:701@skiclub-lenggries.de
DTSTART:20260111T110000Z
DTEND:20260111T150000Z
DTSTAMP:20260106T123150Z
URL:https://skiclub-lenggries.de/events/skitag-langlauf/
SUMMARY:Skitag Langlauf
DESCRIPTION:d' Wirtschaft  beim Bergcamping\, Gilgenhöfe 4\, Lenggries
CATEGORIES:Rennen
LOCATION:Lahnerstubn\, Lahnstubn\, Lenggries\, Bayern\, 83661\, Oberland\, 
 Deutschland
X-APPLE-STRUCTURED-LOCATION;VALUE=URI;X-ADDRESS=Lahnstubn\, Lenggries\, Bay
 ern\, 83661\, Oberland\, Deutschland;X-APPLE-RADIUS=100;X-TITLE=Lahnerstub
 n:geo:0,0
END:VEVENT
END:VCALENDAR