BEGIN:VCALENDAR
VERSION:2.0
PRODID:-//wp-events-plugin.com//7.2.3.1//EN
BEGIN:VEVENT
UID:610@skiclub-lenggries.de
DTSTART:20251102T140000Z
DTEND:20251102T170000Z
DTSTAMP:20251012T085612Z
URL:https://skiclub-lenggries.de/events/roc-gesamtsiegerehrung-2/
SUMMARY:ROC Gesamtsiegerehrung
DESCRIPTION:Turnhalle der Mittelschule in Gaißach
CATEGORIES:Veranstaltungen
END:VEVENT
END:VCALENDAR