BEGIN:VCALENDAR
VERSION:2.0
PRODID:-//wp-events-plugin.com//7.2.3.1//EN
BEGIN:VEVENT
UID:553@skiclub-lenggries.de
DTSTART:20241010T200000Z
DTEND:20241010T210000Z
DTSTAMP:20241015T092752Z
URL:https://skiclub-lenggries.de/events/powergymnastik-2024-10-10/
SUMMARY:Powergymnastik
DESCRIPTION:
CATEGORIES:Training
LOCATION:Grundschule Lenggries MZH\, Geiersteinstraße 11\, Lenggries\, Bay
 ern\, 83661\, Deutschland
X-APPLE-STRUCTURED-LOCATION;VALUE=URI;X-ADDRESS=Geiersteinstraße 11\, Leng
 gries\, Bayern\, 83661\, Deutschland;X-APPLE-RADIUS=100;X-TITLE=Grundschul
 e Lenggries MZH:geo:0,0
END:VEVENT
END:VCALENDAR