BEGIN:VCALENDAR
VERSION:2.0
PRODID:-//wp-events-plugin.com//7.2.3.1//EN
BEGIN:VEVENT
UID:646@skiclub-lenggries.de
DTSTART:20251213T190000Z
DTEND:20251213T235900Z
DTSTAMP:20251115T081516Z
URL:https://skiclub-lenggries.de/events/lawinen-party/
SUMMARY:Lawinen-Party
DESCRIPTION:
CATEGORIES:Veranstaltungen
END:VEVENT
END:VCALENDAR