BEGIN:VCALENDAR
VERSION:2.0
PRODID:-//wp-events-plugin.com//7.2.3.1//EN
BEGIN:VEVENT
UID:624@skiclub-lenggries.de
DTSTART:20260126T094500Z
DTEND:20260126T150000Z
DTSTAMP:20260117T134420Z
URL:https://skiclub-lenggries.de/events/interbancario-rennen-1/
SUMMARY:Interbancario Rennen 1
DESCRIPTION:
CATEGORIES:Rennen
LOCATION:Weltcuphang\, Brauneck\, Lenggries\, Lenggries\, Bayern\, 83661\, 
 Deutschland
X-APPLE-STRUCTURED-LOCATION;VALUE=URI;X-ADDRESS=Brauneck\, Lenggries\, Leng
 gries\, Bayern\, 83661\, Deutschland;X-APPLE-RADIUS=100;X-TITLE=Weltcuphan
 g:geo:0,0
END:VEVENT
END:VCALENDAR