BEGIN:VCALENDAR
VERSION:2.0
PRODID:-//wp-events-plugin.com//7.2.3.1//EN
BEGIN:VEVENT
UID:2@skiclub-lenggries.de
DTSTART:20210724T093000Z
DTEND:20210724T150000Z
DTSTAMP:20210605T193651Z
URL:https://skiclub-lenggries.de/events/hohenburger-schlosslauf/
SUMMARY:Hohenburger Schlosslauf
DESCRIPTION:
ATTACH;FMTTYPE=image/jpeg:https://skiclub-lenggries.de/wp-content/uploads/
 2020/12/Logo_ROC_klein.png
CATEGORIES:Rennen
LOCATION:Schloss Hohenburg\, Hohenburg\, Lenggries\, Bayern\, 83661\, Deuts
 chland
X-APPLE-STRUCTURED-LOCATION;VALUE=URI;X-ADDRESS=Hohenburg\, Lenggries\, Bay
 ern\, 83661\, Deutschland;X-APPLE-RADIUS=100;X-TITLE=Schloss Hohenburg:geo
 :0,0
END:VEVENT
END:VCALENDAR