BEGIN:VCALENDAR
VERSION:2.0
PRODID:-//wp-events-plugin.com//7.2.3.1//EN
BEGIN:VEVENT
UID:611@skiclub-lenggries.de
DTSTART:20251113T190000Z
DTEND:20251113T210000Z
DTSTAMP:20251017T095912Z
URL:https://skiclub-lenggries.de/events/gemeinsamer-elternabend-alpin-lang
 lauf/
SUMMARY:Gemeinsamer Elternabend Alpin & Langlauf
DESCRIPTION:
CATEGORIES:Veranstaltungen
LOCATION:Grundschule Lenggries MZH\, Geiersteinstraße 11\, Lenggries\, Bay
 ern\, 83661\, Deutschland
X-APPLE-STRUCTURED-LOCATION;VALUE=URI;X-ADDRESS=Geiersteinstraße 11\, Leng
 gries\, Bayern\, 83661\, Deutschland;X-APPLE-RADIUS=100;X-TITLE=Grundschul
 e Lenggries MZH:geo:0,0
END:VEVENT
END:VCALENDAR